BEGIN:VCALENDAR
VERSION:2.0
PRODID:-//hacksw/handcal//NONSGML v1.0//EN
BEGIN:VEVENT
DTSTART:20240308T123000
DTEND:20240308T133000
LOCATION:https://www.apec.fr/candidat/les-services-apec/les-ateliers.html?idAtelier=2735144&id-motif=596752#/atelier-prive
ORGANIZER;CN=Perine Sauthier:MAILTO:perine.sauthier@ad-education.com
SUMMARY:Webinaire APEC x Journée Internationale des Droits des Femmes : Femmes cadres, quels leviers pour booster votre carrière ?
DESCRIPTION: A l'occasion de la journée internationale des droits des femmes, l'Apec est fière de soutenir et de promouvoir l'égalité professionnelle et les droits des femmes à travers nos services et notre...
URL:https://community.ecv.fr/fr/event/webinaire-apec-x-journee-internationale-des-droits-des-femmes-femmes-cadres-quels-leviers-pour-booster-votre-carriere/2024/03/08/50
BEGIN:VALARM
TRIGGER:-P0DT1H0M0S
ACTION:DISPLAY
END:VALARM
END:VEVENT
END:VCALENDAR